BEGIN:VCALENDAR
VERSION:2.0
PRODID:-//Squarespace Inc/Squarespace 6//v6//EN
BEGIN:VEVENT
UID:5f8f6eec0ace717f5022cd08@squarespace.com
DTSTAMP:20201020T231303Z
DTSTART:20201110T074000Z
DTEND:20201110T084000Z
SUMMARY:zoom swimnastics (10th November)
END:VEVENT
END:VCALENDAR
