BEGIN:VCALENDAR
VERSION:2.0
PRODID:-//Squarespace Inc/Squarespace 6//v6//EN
BEGIN:VEVENT
UID:5f456f50a7feb51704ad9b3b@squarespace.com
DTSTAMP:20200825T200657Z
DTSTART:20200910T084000Z
DTEND:20200910T094000Z
SUMMARY:zoom swimnastics (10th September)
END:VEVENT
END:VCALENDAR
