BEGIN:VCALENDAR
VERSION:2.0
PRODID:-//Squarespace Inc/Squarespace 6//v6//EN
BEGIN:VEVENT
UID:5fd92fa6f53afe7e340dfa78@squarespace.com
DTSTAMP:20201215T215048Z
DTSTART:20210112T074000Z
DTEND:20210112T084000Z
SUMMARY:zoom swimnastics (12th January)
END:VEVENT
END:VCALENDAR
