BEGIN:VCALENDAR
VERSION:2.0
PRODID:-//Squarespace Inc/Squarespace 6//v6//EN
BEGIN:VEVENT
UID:5f6c24b6e3f9d6412d5b8d6d@squarespace.com
DTSTAMP:20200924T044700Z
DTSTART:20201013T074000Z
DTEND:20201013T084000Z
SUMMARY:zoom swimnastics (13th October) 
END:VEVENT
END:VCALENDAR
