BEGIN:VCALENDAR
VERSION:2.0
PRODID:-//Squarespace Inc/Squarespace 6//v6//EN
BEGIN:VEVENT
UID:5fa38573b463566cc416994d@squarespace.com
DTSTAMP:20201105T045428Z
DTSTART:20201215T074000Z
DTEND:20201215T084000Z
SUMMARY:zoom swimnastics (15th December)
END:VEVENT
END:VCALENDAR
