BEGIN:VCALENDAR
VERSION:2.0
PRODID:-//Squarespace Inc/Squarespace 6//v6//EN
BEGIN:VEVENT
UID:5f6c24cb9e4de8715a8bbf01@squarespace.com
DTSTAMP:20200924T044724Z
DTSTART:20201015T074000Z
DTEND:20201015T084000Z
SUMMARY:zoom swimnastics (15th October)
END:VEVENT
END:VCALENDAR
