BEGIN:VCALENDAR
VERSION:2.0
PRODID:-//Squarespace Inc/Squarespace 6//v6//EN
BEGIN:VEVENT
UID:5f456f67a3f1f41776aaf074@squarespace.com
DTSTAMP:20200825T200715Z
DTSTART:20200915T084000Z
DTEND:20200915T094000Z
SUMMARY:zoom swimnastics (15th September)
END:VEVENT
END:VCALENDAR
