BEGIN:VCALENDAR
VERSION:2.0
PRODID:-//Squarespace Inc/Squarespace 6//v6//EN
BEGIN:VEVENT
UID:5f8f6f1eb6eb251bcd43794a@squarespace.com
DTSTAMP:20201020T231347Z
DTSTART:20201117T074000Z
DTEND:20201117T084000Z
SUMMARY:zoom swimnastics (17th November)
END:VEVENT
END:VCALENDAR
