BEGIN:VCALENDAR
VERSION:2.0
PRODID:-//Squarespace Inc/Squarespace 6//v6//EN
BEGIN:VEVENT
UID:5f456f7916cf7c1e5bdc3f71@squarespace.com
DTSTAMP:20200825T200736Z
DTSTART:20200917T084000Z
DTEND:20200917T094000Z
SUMMARY:zoom swimnastics (17th September)
END:VEVENT
END:VCALENDAR
