BEGIN:VCALENDAR
VERSION:2.0
PRODID:-//Squarespace Inc/Squarespace 6//v6//EN
BEGIN:VEVENT
UID:5fd92fbc7747501c74c0728b@squarespace.com
DTSTAMP:20201215T215106Z
DTSTART:20210119T074000Z
DTEND:20210119T084000Z
SUMMARY:zoom swimnastics (19th January)
END:VEVENT
END:VCALENDAR
