BEGIN:VCALENDAR
VERSION:2.0
PRODID:-//Squarespace Inc/Squarespace 6//v6//EN
BEGIN:VEVENT
UID:5fa3853dcf10c7712b299094@squarespace.com
DTSTAMP:20201105T045345Z
DTSTART:20201201T074000Z
DTEND:20201201T084000Z
SUMMARY:zoom swimnastics (1st December)
END:VEVENT
END:VCALENDAR
