BEGIN:VCALENDAR
VERSION:2.0
PRODID:-//Squarespace Inc/Squarespace 6//v6//EN
BEGIN:VEVENT
UID:5f456fcb5684461b138a52b7@squarespace.com
DTSTAMP:20200924T044553Z
DTSTART:20201001T084000Z
DTEND:20201001T094000Z
SUMMARY:zoom swimnastics (1st October)
END:VEVENT
END:VCALENDAR
