BEGIN:VCALENDAR
VERSION:2.0
PRODID:-//Squarespace Inc/Squarespace 6//v6//EN
BEGIN:VEVENT
UID:5f273f1624e9ca3e2dd03d35@squarespace.com
DTSTAMP:20200802T223315Z
DTSTART:20200811T084000Z
DTEND:20200811T094000Z
SUMMARY:zoom swimnastics (11th August)
END:VEVENT
END:VCALENDAR
