BEGIN:VCALENDAR
VERSION:2.0
PRODID:-//Squarespace Inc/Squarespace 6//v6//EN
BEGIN:VEVENT
UID:5ecafe72ad765166580ba7b2@squarespace.com
DTSTAMP:20200524T230850Z
DTSTART:20200611T084000Z
DTEND:20200611T094000Z
SUMMARY:zoom swimnastics (11th June)
END:VEVENT
END:VCALENDAR
