BEGIN:VCALENDAR
VERSION:2.0
PRODID:-//Squarespace Inc/Squarespace 6//v6//EN
BEGIN:VEVENT
UID:5eaf8aaf0c24ba7906bf2eeb@squarespace.com
DTSTAMP:20200504T033920Z
DTSTART:20200512T084000Z
DTEND:20200512T094000Z
SUMMARY:zoom swimnastics (12th May)
END:VEVENT
END:VCALENDAR
