BEGIN:VCALENDAR
VERSION:2.0
PRODID:-//Squarespace Inc/Squarespace 6//v6//EN
BEGIN:VEVENT
UID:5f273f308d9f5b4a567e1ac5@squarespace.com
DTSTAMP:20200802T223334Z
DTSTART:20200813T084000Z
DTEND:20200813T094000Z
SUMMARY:zoom swimnastics (13th August)
END:VEVENT
END:VCALENDAR
