BEGIN:VCALENDAR
VERSION:2.0
PRODID:-//Squarespace Inc/Squarespace 6//v6//EN
BEGIN:VEVENT
UID:5eaf8e68c091671b546f72f9@squarespace.com
DTSTAMP:20200504T034053Z
DTSTART:20200514T084000Z
DTEND:20200514T094000Z
SUMMARY:zoom swimnastics (14th May)
END:VEVENT
END:VCALENDAR
