BEGIN:VCALENDAR
VERSION:2.0
PRODID:-//Squarespace Inc/Squarespace 6//v6//EN
BEGIN:VEVENT
UID:5ef96df292723c7515ff97a0@squarespace.com
DTSTAMP:20200629T042847Z
DTSTART:20200714T084000Z
DTEND:20200714T094000Z
SUMMARY:zoom swimnastics (14th July) 
END:VEVENT
END:VCALENDAR
