BEGIN:VCALENDAR
VERSION:2.0
PRODID:-//Squarespace Inc/Squarespace 6//v6//EN
BEGIN:VEVENT
UID:5ef96e05aa25701394626fe3@squarespace.com
DTSTAMP:20200629T042907Z
DTSTART:20200716T084000Z
DTEND:20200716T094000Z
SUMMARY:zoom swimnastics (16th July)
END:VEVENT
END:VCALENDAR
