BEGIN:VCALENDAR
VERSION:2.0
PRODID:-//Squarespace Inc/Squarespace 6//v6//EN
BEGIN:VEVENT
UID:5edd7b8c74da2f6b54b77123@squarespace.com
DTSTAMP:20200607T234340Z
DTSTART:20200616T084000Z
DTEND:20200616T094000Z
SUMMARY:zoom swimnastics (16th June)
END:VEVENT
END:VCALENDAR
