BEGIN:VCALENDAR
VERSION:2.0
PRODID:-//Squarespace Inc/Squarespace 6//v6//EN
BEGIN:VEVENT
UID:5f273f449526e63b9bae98cc@squarespace.com
DTSTAMP:20200802T223353Z
DTSTART:20200818T084000Z
DTEND:20200818T094000Z
SUMMARY:zoom swimnastics (18th August)
END:VEVENT
END:VCALENDAR
