BEGIN:VCALENDAR
VERSION:2.0
PRODID:-//Squarespace Inc/Squarespace 6//v6//EN
BEGIN:VEVENT
UID:5edd7bb55766ec0ed83324ee@squarespace.com
DTSTAMP:20200607T234410Z
DTSTART:20200618T084000Z
DTEND:20200618T094000Z
SUMMARY:zoom swimnastics (18th June)
END:VEVENT
END:VCALENDAR
