BEGIN:VCALENDAR
VERSION:2.0
PRODID:-//Squarespace Inc/Squarespace 6//v6//EN
BEGIN:VEVENT
UID:5eaf8ea181efc34ecf337469@squarespace.com
DTSTAMP:20200504T034034Z
DTSTART:20200519T084000Z
DTEND:20200519T094000Z
SUMMARY:zoom swimnastics (19th May) 
END:VEVENT
END:VCALENDAR
