BEGIN:VCALENDAR
VERSION:2.0
PRODID:-//Squarespace Inc/Squarespace 6//v6//EN
BEGIN:VEVENT
UID:5f456f0d361b191649aacb2e@squarespace.com
DTSTAMP:20200825T200553Z
DTSTART:20200901T084000Z
DTEND:20200901T094000Z
SUMMARY:zoom swimnastics (1st September)
END:VEVENT
END:VCALENDAR
