BEGIN:VCALENDAR
VERSION:2.0
PRODID:-//Squarespace Inc/Squarespace 6//v6//EN
BEGIN:VEVENT
UID:5f273f576681c34e5a939321@squarespace.com
DTSTAMP:20200802T223414Z
DTSTART:20200820T084000Z
DTEND:20200820T094000Z
SUMMARY:zoom swimnastics (20th August) 
END:VEVENT
END:VCALENDAR
