BEGIN:VCALENDAR
VERSION:2.0
PRODID:-//Squarespace Inc/Squarespace 6//v6//EN
BEGIN:VEVENT
UID:5eaf8ec52907e509153ee7af@squarespace.com
DTSTAMP:20200504T034110Z
DTSTART:20200521T084000Z
DTEND:20200521T094000Z
SUMMARY:zoom swimnastics (21st May)
END:VEVENT
END:VCALENDAR
