BEGIN:VCALENDAR
VERSION:2.0
PRODID:-//Squarespace Inc/Squarespace 6//v6//EN
BEGIN:VEVENT
UID:5ef96e2567d07462399f6ee1@squarespace.com
DTSTAMP:20200629T042939Z
DTSTART:20200721T084000Z
DTEND:20200721T094000Z
SUMMARY:zoom swimnastics (21st July) 
END:VEVENT
END:VCALENDAR
