BEGIN:VCALENDAR
VERSION:2.0
PRODID:-//Squarespace Inc/Squarespace 6//v6//EN
BEGIN:VEVENT
UID:5ef96e3bfb8ae15cc01539fa@squarespace.com
DTSTAMP:20200629T043003Z
DTSTART:20200723T084000Z
DTEND:20200723T094000Z
SUMMARY:zoom swimnastics (23rd July)
END:VEVENT
END:VCALENDAR
