BEGIN:VCALENDAR
VERSION:2.0
PRODID:-//Squarespace Inc/Squarespace 6//v6//EN
BEGIN:VEVENT
UID:5edd7bd1911f323b5773054f@squarespace.com
DTSTAMP:20200607T234440Z
DTSTART:20200623T084000Z
DTEND:20200623T094000Z
SUMMARY:zoom swimnastics (23rd June)
END:VEVENT
END:VCALENDAR
