BEGIN:VCALENDAR
VERSION:2.0
PRODID:-//Squarespace Inc/Squarespace 6//v6//EN
BEGIN:VEVENT
UID:5f273f6d6681c34e5a93964f@squarespace.com
DTSTAMP:20200802T223435Z
DTSTART:20200825T084000Z
DTEND:20200825T094000Z
SUMMARY:zoom swimnastics (25th August) 
END:VEVENT
END:VCALENDAR
