BEGIN:VCALENDAR
VERSION:2.0
PRODID:-//Squarespace Inc/Squarespace 6//v6//EN
BEGIN:VEVENT
UID:5edd7bee6081415fb02617c1@squarespace.com
DTSTAMP:20200607T234506Z
DTSTART:20200625T084000Z
DTEND:20200625T094000Z
SUMMARY:zoom swimnastics (25th June)
END:VEVENT
END:VCALENDAR
