BEGIN:VCALENDAR
VERSION:2.0
PRODID:-//Squarespace Inc/Squarespace 6//v6//EN
BEGIN:VEVENT
UID:5eaf8edc5d49e84b8a2a4ae0@squarespace.com
DTSTAMP:20200504T034132Z
DTSTART:20200526T084000Z
DTEND:20200526T094000Z
SUMMARY:zoom swimnastics (26th May)
END:VEVENT
END:VCALENDAR
