BEGIN:VCALENDAR
VERSION:2.0
PRODID:-//Squarespace Inc/Squarespace 6//v6//EN
BEGIN:VEVENT
UID:5f273f823be9e6547ba38fda@squarespace.com
DTSTAMP:20200802T223459Z
DTSTART:20200827T084000Z
DTEND:20200827T094000Z
SUMMARY:zoom swimnastics (27th August) 
END:VEVENT
END:VCALENDAR
