BEGIN:VCALENDAR
VERSION:2.0
PRODID:-//Squarespace Inc/Squarespace 6//v6//EN
BEGIN:VEVENT
UID:5eaf8ef35d49e84b8a2a4f2b@squarespace.com
DTSTAMP:20200504T034158Z
DTSTART:20200528T084000Z
DTEND:20200528T094000Z
SUMMARY:zoom swimnastics (28th May)
END:VEVENT
END:VCALENDAR
