BEGIN:VCALENDAR
VERSION:2.0
PRODID:-//Squarespace Inc/Squarespace 6//v6//EN
BEGIN:VEVENT
UID:5ef96e519e8f05514add8806@squarespace.com
DTSTAMP:20200629T043026Z
DTSTART:20200728T084000Z
DTEND:20200728T094000Z
SUMMARY:zoom swimnastics (28th July) 
END:VEVENT
END:VCALENDAR
