BEGIN:VCALENDAR
VERSION:2.0
PRODID:-//Squarespace Inc/Squarespace 6//v6//EN
BEGIN:VEVENT
UID:5edd7c463a11483ae776e178@squarespace.com
DTSTAMP:20200607T234637Z
DTSTART:20200702T084000Z
DTEND:20200702T094000Z
SUMMARY:zoom swimnastics (2nd July)
END:VEVENT
END:VCALENDAR
