BEGIN:VCALENDAR
VERSION:2.0
PRODID:-//Squarespace Inc/Squarespace 6//v6//EN
BEGIN:VEVENT
UID:5ecafdf5e7d73d6dee24f216@squarespace.com
DTSTAMP:20200524T230650Z
DTSTART:20200602T084000Z
DTEND:20200602T094000Z
SUMMARY:zoom swimnastics (2nd June)
END:VEVENT
END:VCALENDAR
