BEGIN:VCALENDAR
VERSION:2.0
PRODID:-//Squarespace Inc/Squarespace 6//v6//EN
BEGIN:VEVENT
UID:5ef96e683895911144e5b0cd@squarespace.com
DTSTAMP:20200629T043046Z
DTSTART:20200730T084000Z
DTEND:20200730T094000Z
SUMMARY:zoom swimnastics (30th July) 
END:VEVENT
END:VCALENDAR
