BEGIN:VCALENDAR
VERSION:2.0
PRODID:-//Squarespace Inc/Squarespace 6//v6//EN
BEGIN:VEVENT
UID:5edd7c2c5766ec0ed833325a@squarespace.com
DTSTAMP:20200607T234606Z
DTSTART:20200630T084000Z
DTEND:20200630T094000Z
SUMMARY:zoom swimnastics (30th June)
END:VEVENT
END:VCALENDAR
