BEGIN:VCALENDAR
VERSION:2.0
PRODID:-//Squarespace Inc/Squarespace 6//v6//EN
BEGIN:VEVENT
UID:5f456f265684461b138a2ac8@squarespace.com
DTSTAMP:20200825T200614Z
DTSTART:20200903T084000Z
DTEND:20200903T094000Z
SUMMARY:zoom swimnastics (3rd September)
END:VEVENT
END:VCALENDAR
