BEGIN:VCALENDAR
VERSION:2.0
PRODID:-//Squarespace Inc/Squarespace 6//v6//EN
BEGIN:VEVENT
UID:5f273eb96681c34e5a937eb2@squarespace.com
DTSTAMP:20200802T223228Z
DTSTART:20200804T084000Z
DTEND:20200804T094000Z
SUMMARY:zoom swimnastics (4th August)
END:VEVENT
END:VCALENDAR
