BEGIN:VCALENDAR
VERSION:2.0
PRODID:-//Squarespace Inc/Squarespace 6//v6//EN
BEGIN:VEVENT
UID:5ecafe0f72e6a72aac08c554@squarespace.com
DTSTAMP:20200524T230735Z
DTSTART:20200604T084000Z
DTEND:20200604T094000Z
SUMMARY:zoom swimnastics (4th June)
END:VEVENT
END:VCALENDAR
