BEGIN:VCALENDAR
VERSION:2.0
PRODID:-//Squarespace Inc/Squarespace 6//v6//EN
BEGIN:VEVENT
UID:5f273f033bef156ea321ad01@squarespace.com
DTSTAMP:20200802T223248Z
DTSTART:20200806T084000Z
DTEND:20200806T094000Z
SUMMARY:zoom swimnastics (6th August)
END:VEVENT
END:VCALENDAR
