BEGIN:VCALENDAR
VERSION:2.0
PRODID:-//Squarespace Inc/Squarespace 6//v6//EN
BEGIN:VEVENT
UID:5ef96dbddf03ed5901194acf@squarespace.com
DTSTAMP:20200629T042757Z
DTSTART:20200707T084000Z
DTEND:20200707T094000Z
SUMMARY:zoom swimnastics (7th July)
END:VEVENT
END:VCALENDAR
