BEGIN:VCALENDAR
VERSION:2.0
PRODID:-//Squarespace Inc/Squarespace 6//v6//EN
BEGIN:VEVENT
UID:5f456f3a8df38f26bc753f93@squarespace.com
DTSTAMP:20200825T200633Z
DTSTART:20200908T084000Z
DTEND:20200908T094000Z
SUMMARY:zoom swimnastics (8th September)
END:VEVENT
END:VCALENDAR
