BEGIN:VCALENDAR
VERSION:2.0
PRODID:-//Squarespace Inc/Squarespace 6//v6//EN
BEGIN:VEVENT
UID:5ef96dd3bcd92c70db77027c@squarespace.com
DTSTAMP:20200629T042818Z
DTSTART:20200709T084000Z
DTEND:20200709T094000Z
SUMMARY:zoom swimnastics (9th July)
END:VEVENT
END:VCALENDAR
