BEGIN:VCALENDAR
VERSION:2.0
PRODID:-//Squarespace Inc/Squarespace 6//v6//EN
BEGIN:VEVENT
UID:5ecafe4e95a4d74aea311e0c@squarespace.com
DTSTAMP:20200524T230824Z
DTSTART:20200609T084000Z
DTEND:20200609T094000Z
SUMMARY:zoom swimnastics (9th June)
END:VEVENT
END:VCALENDAR
