BEGIN:VCALENDAR
VERSION:2.0
PRODID:-//Squarespace Inc/Squarespace 6//v6//EN
BEGIN:VEVENT
UID:5f6c24e39ca0975099d73bfb@squarespace.com
DTSTAMP:20200924T044744Z
DTSTART:20201020T074000Z
DTEND:20201020T084000Z
SUMMARY:zoom swimnastics (20th October)
END:VEVENT
END:VCALENDAR
