BEGIN:VCALENDAR
VERSION:2.0
PRODID:-//Squarespace Inc/Squarespace 6//v6//EN
BEGIN:VEVENT
UID:5fd92f7901121d5923480d13@squarespace.com
DTSTAMP:20201215T215007Z
DTSTART:20201222T074000Z
DTEND:20201222T084000Z
SUMMARY:zoom swimnastics (22nd December)
END:VEVENT
END:VCALENDAR
