BEGIN:VCALENDAR
VERSION:2.0
PRODID:-//Squarespace Inc/Squarespace 6//v6//EN
BEGIN:VEVENT
UID:5f6c24f7064302750dc98150@squarespace.com
DTSTAMP:20200924T044805Z
DTSTART:20201022T074000Z
DTEND:20201022T084000Z
SUMMARY:zoom swimnastics (22nd October)
END:VEVENT
END:VCALENDAR
